BEGIN:VCALENDAR
VERSION:2.0
PRODID:-//Beaver Meadow Golf Course - ECPv6.15.20//NONSGML v1.0//EN
CALSCALE:GREGORIAN
METHOD:PUBLISH
X-ORIGINAL-URL:https://bmgc.golf
X-WR-CALDESC:Events for Beaver Meadow Golf Course
REFRESH-INTERVAL;VALUE=DURATION:PT1H
X-Robots-Tag:noindex
X-PUBLISHED-TTL:PT1H
BEGIN:VTIMEZONE
TZID:America/Toronto
BEGIN:DAYLIGHT
TZOFFSETFROM:-0500
TZOFFSETTO:-0400
TZNAME:EDT
DTSTART:20250309T070000
END:DAYLIGHT
BEGIN:STANDARD
TZOFFSETFROM:-0400
TZOFFSETTO:-0500
TZNAME:EST
DTSTART:20251102T060000
END:STANDARD
BEGIN:DAYLIGHT
TZOFFSETFROM:-0500
TZOFFSETTO:-0400
TZNAME:EDT
DTSTART:20260308T070000
END:DAYLIGHT
BEGIN:STANDARD
TZOFFSETFROM:-0400
TZOFFSETTO:-0500
TZNAME:EST
DTSTART:20261101T060000
END:STANDARD
BEGIN:DAYLIGHT
TZOFFSETFROM:-0500
TZOFFSETTO:-0400
TZNAME:EDT
DTSTART:20270314T070000
END:DAYLIGHT
BEGIN:STANDARD
TZOFFSETFROM:-0400
TZOFFSETTO:-0500
TZNAME:EST
DTSTART:20271107T060000
END:STANDARD
END:VTIMEZONE
BEGIN:VEVENT
DTSTART;TZID=America/Toronto:20260710T083000
DTEND;TZID=America/Toronto:20260710T140000
DTSTAMP:20260422T163033
CREATED:20251226T155813Z
LAST-MODIFIED:20251226T155836Z
UID:16530-1783672200-1783692000@bmgc.golf
SUMMARY:CHS Baseball
DESCRIPTION:
URL:https://bmgc.golf/event/chs-baseball-4/
END:VEVENT
BEGIN:VEVENT
DTSTART;TZID=America/Toronto:20260710T140000
DTEND;TZID=America/Toronto:20260710T190000
DTSTAMP:20260422T163033
CREATED:20251226T155950Z
LAST-MODIFIED:20251226T160005Z
UID:16534-1783692000-1783710000@bmgc.golf
SUMMARY:M-G Practice Round/Putting Contest
DESCRIPTION:
URL:https://bmgc.golf/event/m-g-practice-round-putting-contest/
END:VEVENT
END:VCALENDAR